BEGIN:VCALENDAR
VERSION:2.0
PRODID:-//Saluvet - ECPv6.10.2//NONSGML v1.0//EN
CALSCALE:GREGORIAN
METHOD:PUBLISH
X-ORIGINAL-URL:https://saluvet.de
X-WR-CALDESC:Veranstaltungen für Saluvet
REFRESH-INTERVAL;VALUE=DURATION:PT1H
X-Robots-Tag:noindex
X-PUBLISHED-TTL:PT1H
BEGIN:VTIMEZONE
TZID:Europe/Berlin
BEGIN:DAYLIGHT
TZOFFSETFROM:+0100
TZOFFSETTO:+0200
TZNAME:CEST
DTSTART:20240331T010000
END:DAYLIGHT
BEGIN:STANDARD
TZOFFSETFROM:+0200
TZOFFSETTO:+0100
TZNAME:CET
DTSTART:20241027T010000
END:STANDARD
END:VTIMEZONE
BEGIN:VEVENT
DTSTART;TZID=Europe/Berlin:20241112T090000
DTEND;TZID=Europe/Berlin:20241116T180000
DTSTAMP:20260423T120533
CREATED:20240904T110825Z
LAST-MODIFIED:20240904T112221Z
UID:10073-1731402000-1731780000@saluvet.de
SUMMARY:EuroTier in Hannover
DESCRIPTION:12. – 15. November 2024 von 09:00 – 18:00 Uhr\n \nBesuchen Sie uns in Halle 20 am Stand C57. \nWir freuen uns auf Ihren Besuch.
URL:https://saluvet.de/veranstaltung/eurotier-in-hannover/
CATEGORIES:Veranstaltungen
ATTACH;FMTTYPE=image/png:https://saluvet.de/wp-content/uploads/2024/09/EuroTier-Hannover-757x201-1.png
END:VEVENT
BEGIN:VEVENT
DTSTART;TZID=Europe/Berlin:20241112T100000
DTEND;TZID=Europe/Berlin:20241112T100000
DTSTAMP:20260423T120533
CREATED:20240802T105013Z
LAST-MODIFIED:20240802T105400Z
UID:10036-1731405600-1731405600@saluvet.de
SUMMARY:Spitzwegerich - Hustenmittel und Outdoor-Pflaster
DESCRIPTION:Der Spitzwegerich ist in unseren Breiten nahezu überall zu finden. In der freien Natur wird er kaum beachtet. Als Heilpflanze besitzt er jedoch eine Anwendungstradition\, die Jahrhunderte zurück reicht. Wofür man den Spitzwegerich innerlich sowie äußerlich anwenden kann\, können Sie in diesem Webinar erfahren. \nNeugierig? Dann melden Sie sich doch gleich an.
URL:https://saluvet.de/veranstaltung/spitzwegerich-hustenmittel-und-outdoor-pflaster/
CATEGORIES:Webinare
ATTACH;FMTTYPE=image/png:https://saluvet.de/wp-content/uploads/2024/08/Spitzwegerich-300x225-1.png
END:VEVENT
END:VCALENDAR